BEGIN:VCALENDAR
VERSION:2.0
PRODID:-//자카픽 - ECPv6.15.20//NONSGML v1.0//EN
CALSCALE:GREGORIAN
METHOD:PUBLISH
X-WR-CALNAME:자카픽
X-ORIGINAL-URL:https://jakapick.com
X-WR-CALDESC:자카픽 이벤트
REFRESH-INTERVAL;VALUE=DURATION:PT1H
X-Robots-Tag:noindex
X-PUBLISHED-TTL:PT1H
BEGIN:VTIMEZONE
TZID:Asia/Tokyo
BEGIN:STANDARD
TZOFFSETFROM:+0900
TZOFFSETTO:+0900
TZNAME:JST
DTSTART:20250101T000000
END:STANDARD
END:VTIMEZONE
BEGIN:VEVENT
DTSTART;TZID=Asia/Tokyo:20260718T093000
DTEND;TZID=Asia/Tokyo:20260719T163000
DTSTAMP:20260420T070013
CREATED:20260319T025001Z
LAST-MODIFIED:20260319T025001Z
UID:12688-1784367000-1784478600@jakapick.com
SUMMARY:코믹월드 SUMMER 2026
DESCRIPTION:코믹월드 SUMMER 2026
URL:https://jakapick.com/event/%ec%bd%94%eb%af%b9%ec%9b%94%eb%93%9c-summer-2026/
LOCATION:킨텍스 제1전시장\, 경기도 고양시 일산서구 킨텍스로 217-60\, Korea\, Republic of
END:VEVENT
BEGIN:VEVENT
DTSTART;TZID=Asia/Tokyo:20260724T110000
DTEND;TZID=Asia/Tokyo:20260726T180000
DTSTAMP:20260420T070013
CREATED:20260102T131538Z
LAST-MODIFIED:20260102T131538Z
UID:9904-1784890800-1785088800@jakapick.com
SUMMARY:K-일러스트레이션페어 부산 2026
DESCRIPTION:K-일러스트레이션페어 부산 2026
URL:https://jakapick.com/event/k-%ec%9d%bc%eb%9f%ac%ec%8a%a4%ed%8a%b8%eb%a0%88%ec%9d%b4%ec%85%98%ed%8e%98%ec%96%b4-%eb%b6%80%ec%82%b0-2026/
LOCATION:벡스코\, 부산광역시 해운대구 APEC로 55\, Korea\, Republic of
END:VEVENT
BEGIN:VEVENT
DTSTART;TZID=Asia/Tokyo:20260725T093000
DTEND;TZID=Asia/Tokyo:20260726T160000
DTSTAMP:20260420T070014
CREATED:20260122T012724Z
LAST-MODIFIED:20260122T012724Z
UID:10488-1784971800-1785081600@jakapick.com
SUMMARY:제34회 디. 페스타
DESCRIPTION:제34회 디. 페스타
URL:https://jakapick.com/event/%ec%a0%9c34%ed%9a%8c-%eb%94%94-%ed%8e%98%ec%8a%a4%ed%83%80/
LOCATION:양재 aT센터\, 서울특별시 서초구 강남대로 27 aT센터\, Korea\, Republic of
END:VEVENT
BEGIN:VEVENT
DTSTART;TZID=Asia/Tokyo:20260726T093000
DTEND;TZID=Asia/Tokyo:20260726T160000
DTSTAMP:20260420T070014
CREATED:20260122T012802Z
LAST-MODIFIED:20260122T012802Z
UID:10491-1785058200-1785081600@jakapick.com
SUMMARY:제11회 대운동회
DESCRIPTION:제11회 대운동회
URL:https://jakapick.com/event/%ec%a0%9c11%ed%9a%8c-%eb%8c%80%ec%9a%b4%eb%8f%99%ed%9a%8c/
LOCATION:양재 aT센터\, 서울특별시 서초구 강남대로 27 aT센터\, Korea\, Republic of
END:VEVENT
BEGIN:VEVENT
DTSTART;TZID=Asia/Tokyo:20260730T100000
DTEND;TZID=Asia/Tokyo:20260802T180000
DTSTAMP:20260420T070014
CREATED:20260102T131621Z
LAST-MODIFIED:20260102T131621Z
UID:9907-1785405600-1785693600@jakapick.com
SUMMARY:서울일러스트레이션페어V.21
DESCRIPTION:서울일러스트레이션페어V.21
URL:https://jakapick.com/event/%ec%84%9c%ec%9a%b8%ec%9d%bc%eb%9f%ac%ec%8a%a4%ed%8a%b8%eb%a0%88%ec%9d%b4%ec%85%98%ed%8e%98%ec%96%b4v-21/
LOCATION:COEX C홀\, 서울특별시 강남구 영동대로 513\, Korea\, Republic of
END:VEVENT
BEGIN:VEVENT
DTSTART;TZID=Asia/Tokyo:20260801T100000
DTEND;TZID=Asia/Tokyo:20260802T170000
DTSTAMP:20260420T070014
CREATED:20260319T030657Z
LAST-MODIFIED:20260319T030657Z
UID:12703-1785578400-1785690000@jakapick.com
SUMMARY:일러스타 페스 12
DESCRIPTION:일러스타 페스 12
URL:https://jakapick.com/event/%ec%9d%bc%eb%9f%ac%ec%8a%a4%ed%83%80-%ed%8e%98%ec%8a%a4-12/
LOCATION:벡스코\, 부산광역시 해운대구 APEC로 55\, Korea\, Republic of
END:VEVENT
BEGIN:VEVENT
DTSTART;TZID=Asia/Tokyo:20260808T120000
DTEND;TZID=Asia/Tokyo:20260808T170000
DTSTAMP:20260420T070014
CREATED:20260120T055936Z
LAST-MODIFIED:20260120T055936Z
UID:10447-1786190400-1786208400@jakapick.com
SUMMARY:40회 서울 프로젝트돌
DESCRIPTION:40회 서울 프로젝트돌
URL:https://jakapick.com/event/40%ed%9a%8c-%ec%84%9c%ec%9a%b8-%ed%94%84%eb%a1%9c%ec%a0%9d%ed%8a%b8%eb%8f%8c/
LOCATION:동대문디자인플라자 DDP 아트홀 1관\, 서울시 중구 을지로 281\, Korea\, Republic of
END:VEVENT
BEGIN:VEVENT
DTSTART;TZID=Asia/Tokyo:20260815T093000
DTEND;TZID=Asia/Tokyo:20260816T163000
DTSTAMP:20260420T070014
CREATED:20260319T024838Z
LAST-MODIFIED:20260319T024838Z
UID:12692-1786786200-1786897800@jakapick.com
SUMMARY:코믹월드 335 일산
DESCRIPTION:코믹월드 335 일산
URL:https://jakapick.com/event/%ec%bd%94%eb%af%b9%ec%9b%94%eb%93%9c-335-%ec%9d%bc%ec%82%b0/
LOCATION:킨텍스 제1전시장\, 경기도 고양시 일산서구 킨텍스로 217-60\, Korea\, Republic of
END:VEVENT
BEGIN:VEVENT
DTSTART;TZID=Asia/Tokyo:20260829T100000
DTEND;TZID=Asia/Tokyo:20260830T170000
DTSTAMP:20260420T070014
CREATED:20260319T030803Z
LAST-MODIFIED:20260319T030803Z
UID:12705-1787997600-1788109200@jakapick.com
SUMMARY:일러스타 페스 13
DESCRIPTION:일러스타 페스 13
URL:https://jakapick.com/event/%ec%9d%bc%eb%9f%ac%ec%8a%a4%ed%83%80-%ed%8e%98%ec%8a%a4-13/
LOCATION:킨텍스 제1전시장\, 경기도 고양시 일산서구 킨텍스로 217-60\, Korea\, Republic of
END:VEVENT
BEGIN:VEVENT
DTSTART;TZID=Asia/Tokyo:20260904T100000
DTEND;TZID=Asia/Tokyo:20260906T180000
DTSTAMP:20260420T070014
CREATED:20260102T131705Z
LAST-MODIFIED:20260102T131705Z
UID:9910-1788516000-1788717600@jakapick.com
SUMMARY:2026 서울 일러스트코리아 in aT
DESCRIPTION:2026 서울 일러스트코리아 in aT
URL:https://jakapick.com/event/2026-%ec%84%9c%ec%9a%b8-%ec%9d%bc%eb%9f%ac%ec%8a%a4%ed%8a%b8%ec%bd%94%eb%a6%ac%ec%95%84-in-at/
LOCATION:양재 aT센터\, 서울특별시 서초구 강남대로 27 aT센터\, Korea\, Republic of
END:VEVENT
BEGIN:VEVENT
DTSTART;TZID=Asia/Tokyo:20260910T100000
DTEND;TZID=Asia/Tokyo:20260913T170000
DTSTAMP:20260420T070014
CREATED:20260120T055416Z
LAST-MODIFIED:20260120T055416Z
UID:10438-1789034400-1789318800@jakapick.com
SUMMARY:2026 광주 국제 ACE 일러스트레이션페어
DESCRIPTION:2026 광주 국제 ACE 일러스트레이션페어
URL:https://jakapick.com/event/2026-%ea%b4%91%ec%a3%bc-%ea%b5%ad%ec%a0%9c-ace-%ec%9d%bc%eb%9f%ac%ec%8a%a4%ed%8a%b8%eb%a0%88%ec%9d%b4%ec%85%98%ed%8e%98%ec%96%b4/
LOCATION:김대중컨벤션센터\, 광주광역시 서구 상무누리로 30\, Korea\, Republic of
END:VEVENT
BEGIN:VEVENT
DTSTART;TZID=Asia/Tokyo:20261010T100000
DTEND;TZID=Asia/Tokyo:20261011T170000
DTSTAMP:20260420T070014
CREATED:20260319T030927Z
LAST-MODIFIED:20260319T030927Z
UID:12707-1791626400-1791738000@jakapick.com
SUMMARY:일러스타 페스 14
DESCRIPTION:일러스타 페스 14
URL:https://jakapick.com/event/%ec%9d%bc%eb%9f%ac%ec%8a%a4%ed%83%80-%ed%8e%98%ec%8a%a4-14/
LOCATION:킨텍스 제1전시장\, 경기도 고양시 일산서구 킨텍스로 217-60\, Korea\, Republic of
END:VEVENT
BEGIN:VEVENT
DTSTART;TZID=Asia/Tokyo:20261010T120000
DTEND;TZID=Asia/Tokyo:20261010T170000
DTSTAMP:20260420T070014
CREATED:20260120T060007Z
LAST-MODIFIED:20260120T060007Z
UID:10450-1791633600-1791651600@jakapick.com
SUMMARY:41회 서울 프로젝트돌
DESCRIPTION:41회 서울 프로젝트돌
URL:https://jakapick.com/event/41%ed%9a%8c-%ec%84%9c%ec%9a%b8-%ed%94%84%eb%a1%9c%ec%a0%9d%ed%8a%b8%eb%8f%8c/
LOCATION:동대문디자인플라자 DDP 아트홀 1관\, 서울시 중구 을지로 281\, Korea\, Republic of
END:VEVENT
BEGIN:VEVENT
DTSTART;TZID=Asia/Tokyo:20261030T100000
DTEND;TZID=Asia/Tokyo:20261101T180000
DTSTAMP:20260420T070014
CREATED:20260102T131748Z
LAST-MODIFIED:20260102T131748Z
UID:9912-1793354400-1793556000@jakapick.com
SUMMARY:2026 인천 일러스트코리아
DESCRIPTION:2026 인천 일러스트코리아
URL:https://jakapick.com/event/2026-%ec%9d%b8%ec%b2%9c-%ec%9d%bc%eb%9f%ac%ec%8a%a4%ed%8a%b8%ec%bd%94%eb%a6%ac%ec%95%84/
LOCATION:송도컨벤시아\, 인천광역시 연수구 센트럴로 123\, Korea\, Republic of
END:VEVENT
BEGIN:VEVENT
DTSTART;TZID=Asia/Tokyo:20261106T100000
DTEND;TZID=Asia/Tokyo:20261108T180000
DTSTAMP:20260420T070014
CREATED:20260102T131841Z
LAST-MODIFIED:20260102T131841Z
UID:9915-1793959200-1794160800@jakapick.com
SUMMARY:부산일러스트레이션페어 V.7
DESCRIPTION:부산일러스트레이션페어 V.7
URL:https://jakapick.com/event/%eb%b6%80%ec%82%b0%ec%9d%bc%eb%9f%ac%ec%8a%a4%ed%8a%b8%eb%a0%88%ec%9d%b4%ec%85%98%ed%8e%98%ec%96%b4-v-7/
LOCATION:𝗕𝗘𝗫𝗖𝗢 제𝟮전시장\, 부산광역시 해운대구 APEC로 30\, Korea\, Republic of
END:VEVENT
BEGIN:VEVENT
DTSTART;TZID=Asia/Tokyo:20261122T120000
DTEND;TZID=Asia/Tokyo:20261122T160000
DTSTAMP:20260420T070014
CREATED:20260120T060047Z
LAST-MODIFIED:20260120T060047Z
UID:10452-1795348800-1795363200@jakapick.com
SUMMARY:20회 부산 프로젝트돌
DESCRIPTION:20회 부산 프로젝트돌
URL:https://jakapick.com/event/20%ed%9a%8c-%eb%b6%80%ec%82%b0-%ed%94%84%eb%a1%9c%ec%a0%9d%ed%8a%b8%eb%8f%8c/
LOCATION:부산항국제전시컨벤션센터 (BPEX)\, 부산광역시 동구 충장대로 206 부산항국제여객터미널 5F\, Korea\, Republic of
END:VEVENT
BEGIN:VEVENT
DTSTART;TZID=Asia/Tokyo:20261125T100000
DTEND;TZID=Asia/Tokyo:20261129T180000
DTSTAMP:20260420T070014
CREATED:20260102T131925Z
LAST-MODIFIED:20260102T131925Z
UID:9918-1795600800-1795975200@jakapick.com
SUMMARY:제25회 서울디자인페스티벌
DESCRIPTION:제25회 서울디자인페스티벌
URL:https://jakapick.com/event/%ec%a0%9c25%ed%9a%8c-%ec%84%9c%ec%9a%b8%eb%94%94%ec%9e%90%ec%9d%b8%ed%8e%98%ec%8a%a4%ed%8b%b0%eb%b2%8c/
LOCATION:코엑스\, 서울특별시 강남구 영동대로 513\, Korea\, Republic of
END:VEVENT
BEGIN:VEVENT
DTSTART;TZID=Asia/Tokyo:20261211T100000
DTEND;TZID=Asia/Tokyo:20261213T180000
DTSTAMP:20260420T070014
CREATED:20260102T132007Z
LAST-MODIFIED:20260102T132007Z
UID:9921-1796983200-1797184800@jakapick.com
SUMMARY:2026 수원 일러스트코리아
DESCRIPTION:2026 수원 일러스트코리아
URL:https://jakapick.com/event/2026-%ec%88%98%ec%9b%90-%ec%9d%bc%eb%9f%ac%ec%8a%a4%ed%8a%b8%ec%bd%94%eb%a6%ac%ec%95%84-2/
LOCATION:수원메쎄\, 경기도 수원시 권선구 세화로134번길 37\, Korea\, Republic of
END:VEVENT
BEGIN:VEVENT
DTSTART;TZID=Asia/Tokyo:20261219T120000
DTEND;TZID=Asia/Tokyo:20261219T170000
DTSTAMP:20260420T070014
CREATED:20260120T060131Z
LAST-MODIFIED:20260120T060131Z
UID:10454-1797681600-1797699600@jakapick.com
SUMMARY:42회 서울 프로젝트돌
DESCRIPTION:42회 서울 프로젝트돌
URL:https://jakapick.com/event/42%ed%9a%8c-%ec%84%9c%ec%9a%b8-%ed%94%84%eb%a1%9c%ec%a0%9d%ed%8a%b8%eb%8f%8c/
LOCATION:동대문디자인플라자 DDP 아트홀 1관\, 서울시 중구 을지로 281\, Korea\, Republic of
END:VEVENT
BEGIN:VEVENT
DTSTART;TZID=Asia/Tokyo:20261224T100000
DTEND;TZID=Asia/Tokyo:20261227T180000
DTSTAMP:20260420T070014
CREATED:20260102T132047Z
LAST-MODIFIED:20260126T041741Z
UID:9924-1798106400-1798394400@jakapick.com
SUMMARY:서울일러스트레이션페어V.22
DESCRIPTION:서울일러스트레이션페어V.22
URL:https://jakapick.com/event/%ec%84%9c%ec%9a%b8%ec%9d%bc%eb%9f%ac%ec%8a%a4%ed%8a%b8%eb%a0%88%ec%9d%b4%ec%85%98%ed%8e%98%ec%96%b4v-22/
LOCATION:COEX C홀\, 서울특별시 강남구 영동대로 513\, Korea\, Republic of
END:VEVENT
END:VCALENDAR