BEGIN:VCALENDAR
VERSION:2.0
PRODID:-//자카픽 - ECPv6.15.20//NONSGML v1.0//EN
CALSCALE:GREGORIAN
METHOD:PUBLISH
X-ORIGINAL-URL:https://jakapick.com
X-WR-CALDESC:자카픽 이벤트
REFRESH-INTERVAL;VALUE=DURATION:PT1H
X-Robots-Tag:noindex
X-PUBLISHED-TTL:PT1H
BEGIN:VTIMEZONE
TZID:Asia/Tokyo
BEGIN:STANDARD
TZOFFSETFROM:+0900
TZOFFSETTO:+0900
TZNAME:JST
DTSTART:20250101T000000
END:STANDARD
END:VTIMEZONE
BEGIN:VEVENT
DTSTART;TZID=Asia/Tokyo:20260718T093000
DTEND;TZID=Asia/Tokyo:20260719T163000
DTSTAMP:20260420T033607
CREATED:20260319T025001Z
LAST-MODIFIED:20260319T025001Z
UID:12688-1784367000-1784478600@jakapick.com
SUMMARY:코믹월드 SUMMER 2026
DESCRIPTION:코믹월드 SUMMER 2026
URL:https://jakapick.com/event/%ec%bd%94%eb%af%b9%ec%9b%94%eb%93%9c-summer-2026/
LOCATION:킨텍스 제1전시장\, 경기도 고양시 일산서구 킨텍스로 217-60\, Korea\, Republic of
END:VEVENT
BEGIN:VEVENT
DTSTART;TZID=Asia/Tokyo:20260724T110000
DTEND;TZID=Asia/Tokyo:20260726T180000
DTSTAMP:20260420T033607
CREATED:20260102T131538Z
LAST-MODIFIED:20260102T131538Z
UID:9904-1784890800-1785088800@jakapick.com
SUMMARY:K-일러스트레이션페어 부산 2026
DESCRIPTION:K-일러스트레이션페어 부산 2026
URL:https://jakapick.com/event/k-%ec%9d%bc%eb%9f%ac%ec%8a%a4%ed%8a%b8%eb%a0%88%ec%9d%b4%ec%85%98%ed%8e%98%ec%96%b4-%eb%b6%80%ec%82%b0-2026/
LOCATION:벡스코\, 부산광역시 해운대구 APEC로 55\, Korea\, Republic of
END:VEVENT
BEGIN:VEVENT
DTSTART;TZID=Asia/Tokyo:20260725T093000
DTEND;TZID=Asia/Tokyo:20260726T160000
DTSTAMP:20260420T033607
CREATED:20260122T012724Z
LAST-MODIFIED:20260122T012724Z
UID:10488-1784971800-1785081600@jakapick.com
SUMMARY:제34회 디. 페스타
DESCRIPTION:제34회 디. 페스타
URL:https://jakapick.com/event/%ec%a0%9c34%ed%9a%8c-%eb%94%94-%ed%8e%98%ec%8a%a4%ed%83%80/
LOCATION:양재 aT센터\, 서울특별시 서초구 강남대로 27 aT센터\, Korea\, Republic of
END:VEVENT
BEGIN:VEVENT
DTSTART;TZID=Asia/Tokyo:20260726T093000
DTEND;TZID=Asia/Tokyo:20260726T160000
DTSTAMP:20260420T033607
CREATED:20260122T012802Z
LAST-MODIFIED:20260122T012802Z
UID:10491-1785058200-1785081600@jakapick.com
SUMMARY:제11회 대운동회
DESCRIPTION:제11회 대운동회
URL:https://jakapick.com/event/%ec%a0%9c11%ed%9a%8c-%eb%8c%80%ec%9a%b4%eb%8f%99%ed%9a%8c/
LOCATION:양재 aT센터\, 서울특별시 서초구 강남대로 27 aT센터\, Korea\, Republic of
END:VEVENT
BEGIN:VEVENT
DTSTART;TZID=Asia/Tokyo:20260730T100000
DTEND;TZID=Asia/Tokyo:20260802T180000
DTSTAMP:20260420T033607
CREATED:20260102T131621Z
LAST-MODIFIED:20260102T131621Z
UID:9907-1785405600-1785693600@jakapick.com
SUMMARY:서울일러스트레이션페어V.21
DESCRIPTION:서울일러스트레이션페어V.21
URL:https://jakapick.com/event/%ec%84%9c%ec%9a%b8%ec%9d%bc%eb%9f%ac%ec%8a%a4%ed%8a%b8%eb%a0%88%ec%9d%b4%ec%85%98%ed%8e%98%ec%96%b4v-21/
LOCATION:COEX C홀\, 서울특별시 강남구 영동대로 513\, Korea\, Republic of
END:VEVENT
END:VCALENDAR