BEGIN:VCALENDAR
VERSION:2.0
PRODID:-//자카픽 - ECPv6.15.20//NONSGML v1.0//EN
CALSCALE:GREGORIAN
METHOD:PUBLISH
X-WR-CALNAME:자카픽
X-ORIGINAL-URL:https://jakapick.com
X-WR-CALDESC:자카픽 이벤트
REFRESH-INTERVAL;VALUE=DURATION:PT1H
X-Robots-Tag:noindex
X-PUBLISHED-TTL:PT1H
BEGIN:VTIMEZONE
TZID:Asia/Tokyo
BEGIN:STANDARD
TZOFFSETFROM:+0900
TZOFFSETTO:+0900
TZNAME:JST
DTSTART:20250101T000000
END:STANDARD
END:VTIMEZONE
BEGIN:VEVENT
DTSTART;TZID=Asia/Tokyo:20260815T093000
DTEND;TZID=Asia/Tokyo:20260816T163000
DTSTAMP:20260420T112517
CREATED:20260319T024838Z
LAST-MODIFIED:20260319T024838Z
UID:12692-1786786200-1786897800@jakapick.com
SUMMARY:코믹월드 335 일산
DESCRIPTION:코믹월드 335 일산
URL:https://jakapick.com/event/%ec%bd%94%eb%af%b9%ec%9b%94%eb%93%9c-335-%ec%9d%bc%ec%82%b0/
LOCATION:킨텍스 제1전시장\, 경기도 고양시 일산서구 킨텍스로 217-60\, Korea\, Republic of
END:VEVENT
END:VCALENDAR