BEGIN:VCALENDAR
VERSION:2.0
PRODID:-//자카픽 - ECPv6.15.20//NONSGML v1.0//EN
CALSCALE:GREGORIAN
METHOD:PUBLISH
X-ORIGINAL-URL:https://jakapick.com
X-WR-CALDESC:자카픽 이벤트
REFRESH-INTERVAL;VALUE=DURATION:PT1H
X-Robots-Tag:noindex
X-PUBLISHED-TTL:PT1H
BEGIN:VTIMEZONE
TZID:Asia/Tokyo
BEGIN:STANDARD
TZOFFSETFROM:+0900
TZOFFSETTO:+0900
TZNAME:JST
DTSTART:20250101T000000
END:STANDARD
END:VTIMEZONE
BEGIN:VEVENT
DTSTART;TZID=Asia/Tokyo:20260117T093000
DTEND;TZID=Asia/Tokyo:20260117T160000
DTSTAMP:20260420T051502
CREATED:20260122T012428Z
LAST-MODIFIED:20260122T012428Z
UID:10476-1768642200-1768665600@jakapick.com
SUMMARY:제32회 디. 페스타
DESCRIPTION:제32회 디. 페스타
URL:https://jakapick.com/event/%ec%a0%9c32%ed%9a%8c-%eb%94%94-%ed%8e%98%ec%8a%a4%ed%83%80/
LOCATION:양재 aT센터\, 서울특별시 서초구 강남대로 27 aT센터\, Korea\, Republic of
END:VEVENT
END:VCALENDAR