BEGIN:VCALENDAR
VERSION:2.0
PRODID:-//자카픽 - ECPv6.15.20//NONSGML v1.0//EN
CALSCALE:GREGORIAN
METHOD:PUBLISH
X-WR-CALNAME:자카픽
X-ORIGINAL-URL:https://jakapick.com
X-WR-CALDESC:자카픽 이벤트
REFRESH-INTERVAL;VALUE=DURATION:PT1H
X-Robots-Tag:noindex
X-PUBLISHED-TTL:PT1H
BEGIN:VTIMEZONE
TZID:Asia/Tokyo
BEGIN:STANDARD
TZOFFSETFROM:+0900
TZOFFSETTO:+0900
TZNAME:JST
DTSTART:20250101T000000
END:STANDARD
END:VTIMEZONE
BEGIN:VEVENT
DTSTART;TZID=Asia/Tokyo:20260118T093000
DTEND;TZID=Asia/Tokyo:20260118T160000
DTSTAMP:20260420T051447
CREATED:20260122T012349Z
LAST-MODIFIED:20260122T012349Z
UID:10474-1768728600-1768752000@jakapick.com
SUMMARY:아아─\, 이것이 『소설』이라는 것이다.
DESCRIPTION:아아─\, 이것이 『소설』이라는 것이다.
URL:https://jakapick.com/event/%ec%95%84%ec%95%84%e2%94%80-%ec%9d%b4%ea%b2%83%ec%9d%b4-%e3%80%8e%ec%86%8c%ec%84%a4%e3%80%8f%ec%9d%b4%eb%9d%bc%eb%8a%94-%ea%b2%83%ec%9d%b4%eb%8b%a4/
LOCATION:양재 aT센터\, 서울특별시 서초구 강남대로 27 aT센터\, Korea\, Republic of
END:VEVENT
END:VCALENDAR