BEGIN:VCALENDAR
VERSION:2.0
PRODID:-//자카픽 - ECPv6.15.20//NONSGML v1.0//EN
CALSCALE:GREGORIAN
METHOD:PUBLISH
X-ORIGINAL-URL:https://jakapick.com
X-WR-CALDESC:자카픽 이벤트
REFRESH-INTERVAL;VALUE=DURATION:PT1H
X-Robots-Tag:noindex
X-PUBLISHED-TTL:PT1H
BEGIN:VTIMEZONE
TZID:Asia/Tokyo
BEGIN:STANDARD
TZOFFSETFROM:+0900
TZOFFSETTO:+0900
TZNAME:JST
DTSTART:20250101T000000
END:STANDARD
END:VTIMEZONE
BEGIN:VEVENT
DTSTART;TZID=Asia/Tokyo:20260124T000000
DTEND;TZID=Asia/Tokyo:20260124T120000
DTSTAMP:20260420T051501
CREATED:20260122T015551Z
LAST-MODIFIED:20260122T015656Z
UID:10495-1769212800-1769256000@jakapick.com
SUMMARY:하울수프 26
DESCRIPTION:하울수프 26
URL:https://jakapick.com/event/%ed%95%98%ec%9a%b8%ec%88%98%ed%94%84-26/
LOCATION:수원메쎄\, 경기도 수원시 권선구 세화로134번길 37\, Korea\, Republic of
END:VEVENT
END:VCALENDAR