BEGIN:VCALENDAR
VERSION:2.0
PRODID:-//자카픽 - ECPv6.15.20//NONSGML v1.0//EN
CALSCALE:GREGORIAN
METHOD:PUBLISH
X-WR-CALNAME:자카픽
X-ORIGINAL-URL:https://jakapick.com
X-WR-CALDESC:자카픽 이벤트
REFRESH-INTERVAL;VALUE=DURATION:PT1H
X-Robots-Tag:noindex
X-PUBLISHED-TTL:PT1H
BEGIN:VTIMEZONE
TZID:Asia/Tokyo
BEGIN:STANDARD
TZOFFSETFROM:+0900
TZOFFSETTO:+0900
TZNAME:JST
DTSTART:20250101T000000
END:STANDARD
END:VTIMEZONE
BEGIN:VEVENT
DTSTART;TZID=Asia/Tokyo:20260221T090000
DTEND;TZID=Asia/Tokyo:20260222T160000
DTSTAMP:20260420T033228
CREATED:20260122T020003Z
LAST-MODIFIED:20260122T020003Z
UID:10498-1771664400-1771776000@jakapick.com
SUMMARY:퍼리조아
DESCRIPTION:퍼리조아
URL:https://jakapick.com/event/%ed%8d%bc%eb%a6%ac%ec%a1%b0%ec%95%84/
LOCATION:YMCA유스센터\, 경기도 고양시 애니골길 97 KR\, Korea\, Republic of
END:VEVENT
BEGIN:VEVENT
DTSTART;TZID=Asia/Tokyo:20260221T100000
DTEND;TZID=Asia/Tokyo:20260222T170000
DTSTAMP:20260420T033228
CREATED:20260102T132131Z
LAST-MODIFIED:20260102T132131Z
UID:9927-1771668000-1771779600@jakapick.com
SUMMARY:일러스타 페스 10
DESCRIPTION:일러스타 페스 10
URL:https://jakapick.com/event/%ec%9d%bc%eb%9f%ac%ec%8a%a4%ed%83%80-%ed%8e%98%ec%8a%a4-10/
LOCATION:킨텍스 제1전시장\, 경기도 고양시 일산서구 킨텍스로 217-60\, Korea\, Republic of
END:VEVENT
BEGIN:VEVENT
DTSTART;TZID=Asia/Tokyo:20260221T120000
DTEND;TZID=Asia/Tokyo:20260222T170000
DTSTAMP:20260420T033228
CREATED:20260108T091635Z
LAST-MODIFIED:20260108T091701Z
UID:10034-1771675200-1771779600@jakapick.com
SUMMARY:문구전 2026 봄
DESCRIPTION:문구전 2026 봄
URL:https://jakapick.com/event/%eb%ac%b8%ea%b5%ac%ec%a0%84-2026-%eb%b4%84/
LOCATION:수원메쎄\, 경기도 수원시 권선구 세화로134번길 37\, Korea\, Republic of
END:VEVENT
END:VCALENDAR