BEGIN:VCALENDAR
VERSION:2.0
PRODID:-//자카픽 - ECPv6.15.20//NONSGML v1.0//EN
CALSCALE:GREGORIAN
METHOD:PUBLISH
X-WR-CALNAME:자카픽
X-ORIGINAL-URL:https://jakapick.com
X-WR-CALDESC:자카픽 이벤트
REFRESH-INTERVAL;VALUE=DURATION:PT1H
X-Robots-Tag:noindex
X-PUBLISHED-TTL:PT1H
BEGIN:VTIMEZONE
TZID:Asia/Tokyo
BEGIN:STANDARD
TZOFFSETFROM:+0900
TZOFFSETTO:+0900
TZNAME:JST
DTSTART:20250101T000000
END:STANDARD
END:VTIMEZONE
BEGIN:VEVENT
DTSTART;TZID=Asia/Tokyo:20260227T100000
DTEND;TZID=Asia/Tokyo:20260301T180000
DTSTAMP:20260420T033227
CREATED:20260102T131056Z
LAST-MODIFIED:20260102T131056Z
UID:9887-1772186400-1772388000@jakapick.com
SUMMARY:2026 대구 일러스트코리아
DESCRIPTION:2026 대구 일러스트코리아
URL:https://jakapick.com/event/2026-%eb%8c%80%ea%b5%ac-%ec%9d%bc%eb%9f%ac%ec%8a%a4%ed%8a%b8%ec%bd%94%eb%a6%ac%ec%95%84/
LOCATION:엑스코\, 대구광역시 북구 엑스코로 10(산격동 1676)\, Korea\, Republic of
END:VEVENT
END:VCALENDAR