BEGIN:VCALENDAR
VERSION:2.0
PRODID:-//자카픽 - ECPv6.15.20//NONSGML v1.0//EN
CALSCALE:GREGORIAN
METHOD:PUBLISH
X-WR-CALNAME:자카픽
X-ORIGINAL-URL:https://jakapick.com
X-WR-CALDESC:자카픽 이벤트
REFRESH-INTERVAL;VALUE=DURATION:PT1H
X-Robots-Tag:noindex
X-PUBLISHED-TTL:PT1H
BEGIN:VTIMEZONE
TZID:Asia/Tokyo
BEGIN:STANDARD
TZOFFSETFROM:+0900
TZOFFSETTO:+0900
TZNAME:JST
DTSTART:20250101T000000
END:STANDARD
END:VTIMEZONE
BEGIN:VEVENT
DTSTART;TZID=Asia/Tokyo:20260516T093000
DTEND;TZID=Asia/Tokyo:20260517T163000
DTSTAMP:20260420T020415
CREATED:20260319T025033Z
LAST-MODIFIED:20260319T025033Z
UID:12685-1778923800-1779035400@jakapick.com
SUMMARY:코믹월드 333 부산 & 문구전 32 부산
DESCRIPTION:코믹월드 333 부산 & 문구전 32 부산
URL:https://jakapick.com/event/%ec%bd%94%eb%af%b9%ec%9b%94%eb%93%9c-333-%eb%b6%80%ec%82%b0-%eb%ac%b8%ea%b5%ac%ec%a0%84-32-%eb%b6%80%ec%82%b0/
LOCATION:𝗕𝗘𝗫𝗖𝗢 제𝟮전시장\, 부산광역시 해운대구 APEC로 30\, Korea\, Republic of
END:VEVENT
END:VCALENDAR