BEGIN:VCALENDAR
VERSION:2.0
PRODID:-//자카픽 - ECPv6.15.20//NONSGML v1.0//EN
CALSCALE:GREGORIAN
METHOD:PUBLISH
X-ORIGINAL-URL:https://jakapick.com
X-WR-CALDESC:자카픽 이벤트
REFRESH-INTERVAL;VALUE=DURATION:PT1H
X-Robots-Tag:noindex
X-PUBLISHED-TTL:PT1H
BEGIN:VTIMEZONE
TZID:Asia/Tokyo
BEGIN:STANDARD
TZOFFSETFROM:+0900
TZOFFSETTO:+0900
TZNAME:JST
DTSTART:20250101T000000
END:STANDARD
END:VTIMEZONE
BEGIN:VEVENT
DTSTART;TZID=Asia/Tokyo:20260521T103000
DTEND;TZID=Asia/Tokyo:20260524T190000
DTSTAMP:20260420T021147
CREATED:20260102T131331Z
LAST-MODIFIED:20260102T131331Z
UID:9896-1779359400-1779649200@jakapick.com
SUMMARY:제8회 부산디자인페스티벌
DESCRIPTION:제8회 부산디자인페스티벌
URL:https://jakapick.com/event/%ec%a0%9c8%ed%9a%8c-%eb%b6%80%ec%82%b0%eb%94%94%ec%9e%90%ec%9d%b8%ed%8e%98%ec%8a%a4%ed%8b%b0%eb%b2%8c/
LOCATION:벡스코\, 부산광역시 해운대구 APEC로 55\, Korea\, Republic of
END:VEVENT
END:VCALENDAR