BEGIN:VCALENDAR
VERSION:2.0
PRODID:-//자카픽 - ECPv6.15.20//NONSGML v1.0//EN
CALSCALE:GREGORIAN
METHOD:PUBLISH
X-WR-CALNAME:자카픽
X-ORIGINAL-URL:https://jakapick.com
X-WR-CALDESC:자카픽 이벤트
REFRESH-INTERVAL;VALUE=DURATION:PT1H
X-Robots-Tag:noindex
X-PUBLISHED-TTL:PT1H
BEGIN:VTIMEZONE
TZID:Asia/Tokyo
BEGIN:STANDARD
TZOFFSETFROM:+0900
TZOFFSETTO:+0900
TZNAME:JST
DTSTART:20250101T000000
END:STANDARD
END:VTIMEZONE
BEGIN:VEVENT
DTSTART;TZID=Asia/Tokyo:20260724T110000
DTEND;TZID=Asia/Tokyo:20260726T180000
DTSTAMP:20260420T051749
CREATED:20260102T131538Z
LAST-MODIFIED:20260102T131538Z
UID:9904-1784890800-1785088800@jakapick.com
SUMMARY:K-일러스트레이션페어 부산 2026
DESCRIPTION:K-일러스트레이션페어 부산 2026
URL:https://jakapick.com/event/k-%ec%9d%bc%eb%9f%ac%ec%8a%a4%ed%8a%b8%eb%a0%88%ec%9d%b4%ec%85%98%ed%8e%98%ec%96%b4-%eb%b6%80%ec%82%b0-2026/
LOCATION:벡스코\, 부산광역시 해운대구 APEC로 55\, Korea\, Republic of
END:VEVENT
BEGIN:VEVENT
DTSTART;TZID=Asia/Tokyo:20260725T093000
DTEND;TZID=Asia/Tokyo:20260726T160000
DTSTAMP:20260420T051749
CREATED:20260122T012724Z
LAST-MODIFIED:20260122T012724Z
UID:10488-1784971800-1785081600@jakapick.com
SUMMARY:제34회 디. 페스타
DESCRIPTION:제34회 디. 페스타
URL:https://jakapick.com/event/%ec%a0%9c34%ed%9a%8c-%eb%94%94-%ed%8e%98%ec%8a%a4%ed%83%80/
LOCATION:양재 aT센터\, 서울특별시 서초구 강남대로 27 aT센터\, Korea\, Republic of
END:VEVENT
END:VCALENDAR