BEGIN:VCALENDAR
VERSION:2.0
PRODID:-//자카픽 - ECPv6.15.20//NONSGML v1.0//EN
CALSCALE:GREGORIAN
METHOD:PUBLISH
X-WR-CALNAME:자카픽
X-ORIGINAL-URL:https://jakapick.com
X-WR-CALDESC:자카픽 이벤트
REFRESH-INTERVAL;VALUE=DURATION:PT1H
X-Robots-Tag:noindex
X-PUBLISHED-TTL:PT1H
BEGIN:VTIMEZONE
TZID:Asia/Tokyo
BEGIN:STANDARD
TZOFFSETFROM:+0900
TZOFFSETTO:+0900
TZNAME:JST
DTSTART:20250101T000000
END:STANDARD
END:VTIMEZONE
BEGIN:VEVENT
DTSTART;TZID=Asia/Tokyo:20260808T120000
DTEND;TZID=Asia/Tokyo:20260808T170000
DTSTAMP:20260420T065612
CREATED:20260120T055936Z
LAST-MODIFIED:20260120T055936Z
UID:10447-1786190400-1786208400@jakapick.com
SUMMARY:40회 서울 프로젝트돌
DESCRIPTION:40회 서울 프로젝트돌
URL:https://jakapick.com/event/40%ed%9a%8c-%ec%84%9c%ec%9a%b8-%ed%94%84%eb%a1%9c%ec%a0%9d%ed%8a%b8%eb%8f%8c/
LOCATION:동대문디자인플라자 DDP 아트홀 1관\, 서울시 중구 을지로 281\, Korea\, Republic of
END:VEVENT
END:VCALENDAR