BEGIN:VCALENDAR
VERSION:2.0
PRODID:-//자카픽 - ECPv6.15.20//NONSGML v1.0//EN
CALSCALE:GREGORIAN
METHOD:PUBLISH
X-ORIGINAL-URL:https://jakapick.com
X-WR-CALDESC:자카픽 이벤트
REFRESH-INTERVAL;VALUE=DURATION:PT1H
X-Robots-Tag:noindex
X-PUBLISHED-TTL:PT1H
BEGIN:VTIMEZONE
TZID:Asia/Tokyo
BEGIN:STANDARD
TZOFFSETFROM:+0900
TZOFFSETTO:+0900
TZNAME:JST
DTSTART:20250101T000000
END:STANDARD
END:VTIMEZONE
BEGIN:VEVENT
DTSTART;TZID=Asia/Tokyo:20260829T100000
DTEND;TZID=Asia/Tokyo:20260830T170000
DTSTAMP:20260420T065634
CREATED:20260319T030803Z
LAST-MODIFIED:20260319T030803Z
UID:12705-1787997600-1788109200@jakapick.com
SUMMARY:일러스타 페스 13
DESCRIPTION:일러스타 페스 13
URL:https://jakapick.com/event/%ec%9d%bc%eb%9f%ac%ec%8a%a4%ed%83%80-%ed%8e%98%ec%8a%a4-13/
LOCATION:킨텍스 제1전시장\, 경기도 고양시 일산서구 킨텍스로 217-60\, Korea\, Republic of
END:VEVENT
END:VCALENDAR